BEGIN:VCALENDAR
VERSION:2.0
PRODID:-//Tukios.com/
BEGIN:VEVENT
UID:d064b51c-c188-423a-aaae-d76c84e46532@www.eastmanfuneralhome.com
DTSTAMP:20260421T233914Z
DTSTART:20260424T160000Z
DTEND:20260424T180000Z
SUMMARY:Visitation
DESCRIPTION:
URL:https://www.eastmanfuneralhome.com/obituaries/arlene-horning
LOCATION:Walker-Eastman-Heydinger Funeral Home 98 West Main Street  
	Norwalk OH 44857
GEO:41.2398832;-82.6214718
END:VEVENT
END:VCALENDAR