BEGIN:VCALENDAR
VERSION:2.0
PRODID:-//Tukios.com/
BEGIN:VEVENT
UID:73539aeb-1192-46d1-94ce-3e76c3d8abf1@www.eastmanfuneralhome.com
DTSTAMP:20260421T234204Z
DTSTART:20260424T180000Z
DTEND:20260424T190000Z
SUMMARY:Funeral Service
DESCRIPTION:
URL:https://www.eastmanfuneralhome.com/obituaries/arlene-horning
LOCATION:Walker-Eastman-Heydinger Funeral Home 98 West Main Street  
	Norwalk OH 44857
GEO:41.2398832;-82.6214718
END:VEVENT
END:VCALENDAR