BEGIN:VCALENDAR
VERSION:2.0
PRODID:-//Tukios.com/
BEGIN:VEVENT
UID:8f6ce2da-a1ff-4e11-9c46-2281be25759d@www.eastmanfuneralhome.com
DTSTAMP:20260421T180713Z
DTSTART:20260509T140000Z
DTEND:20260509T150000Z
SUMMARY:Visitation
DESCRIPTION:
URL:https://www.eastmanfuneralhome.com/obituaries/lorna-plott
LOCATION: 370 South Main Street  Wellington OH 44090
GEO:41.1607226;-82.2183344
END:VEVENT
END:VCALENDAR