BEGIN:VCALENDAR
VERSION:2.0
PRODID:-//Tukios.com/
BEGIN:VEVENT
UID:f344dd5c-c9a5-4433-92a0-e92aae593630@www.eastmanfuneralhome.com
DTSTAMP:20260421T180933Z
DTSTART:20260509T150000Z
DTEND:20260509T160000Z
SUMMARY:Memorial Service
DESCRIPTION:
URL:https://www.eastmanfuneralhome.com/obituaries/lorna-plott
LOCATION: 370 South Main Street  Wellington OH 44090
GEO:41.1607226;-82.2183344
END:VEVENT
END:VCALENDAR