BEGIN:VCALENDAR
VERSION:2.0
PRODID:-//Tukios.com/
BEGIN:VEVENT
UID:70270f4f-0c21-4b60-bbda-dd664c119e68@www.eastmanfuneralhome.com
DTSTAMP:20260424T172703Z
DTSTART:20260428T150000Z
DTEND:20260428T170000Z
SUMMARY:Visitation
DESCRIPTION:
URL:https://www.eastmanfuneralhome.com/obituaries/rita-fitzwater
LOCATION:Walker-Eastman-Heydinger Funeral Home 98 West Main Street  
	Norwalk OH 44857
GEO:41.2398832;-82.6214718
END:VEVENT
END:VCALENDAR