BEGIN:VCALENDAR
VERSION:2.0
PRODID:-//Tukios.com/
BEGIN:VEVENT
UID:645922b6-5470-40da-8137-fb0dfc9893f9@www.eastmanfuneralhome.com
DTSTAMP:20260424T172852Z
DTSTART:20260428T170000Z
DTEND:20260428T180000Z
SUMMARY:Funeral Service
DESCRIPTION:
URL:https://www.eastmanfuneralhome.com/obituaries/rita-fitzwater
LOCATION:Walker-Eastman-Heydinger Funeral Home 98 West Main Street  
	Norwalk OH 44857
GEO:41.2398832;-82.6214718
END:VEVENT
END:VCALENDAR