BEGIN:VCALENDAR
VERSION:2.0
PRODID:-//Tukios.com/
BEGIN:VEVENT
UID:697db73c-a5d0-4f82-bf1a-9c91bdea15c9@www.eastmanfuneralhome.com
DTSTAMP:20260423T231601Z
DTSTART:20260430T130000Z
DTEND:20260430T140000Z
SUMMARY:Visitation
DESCRIPTION:
URL:https://www.eastmanfuneralhome.com/obituaries/thelma-lucas
LOCATION:Norton-Eastman Funeral Home 370 S Main St  Wellington OH 44090
GEO:41.1607226;-82.2183344
END:VEVENT
END:VCALENDAR