BEGIN:VCALENDAR
VERSION:2.0
PRODID:-//Tukios.com/
BEGIN:VEVENT
UID:2a94b49d-8300-492a-a57b-0b48b30a1af5@www.eastmanfuneralhome.com
DTSTAMP:20260423T231847Z
DTSTART:20260430T140000Z
DTEND:20260430T141500Z
SUMMARY:Prayer Service
DESCRIPTION:
URL:https://www.eastmanfuneralhome.com/obituaries/thelma-lucas
LOCATION: 370 S Main St  Wellington OH 44090
GEO:41.1607226;-82.2183344
END:VEVENT
END:VCALENDAR