BEGIN:VCALENDAR
VERSION:2.0
PRODID:-//Tukios.com/
BEGIN:VEVENT
UID:a8cb18f0-bf8d-4b40-bd31-7e6b1b3a78a4@www.eastmanfuneralhome.com
DTSTAMP:20260423T231719Z
DTSTART:20260430T143000Z
DTEND:20260430T153000Z
SUMMARY:Mass
DESCRIPTION:
URL:https://www.eastmanfuneralhome.com/obituaries/thelma-lucas
LOCATION:Saint Patrick Catholic Parish 512 North Main Street  Wellington 
	OH 44090
GEO:41.1749876;-82.2167707
END:VEVENT
END:VCALENDAR